BEGIN:VCALENDAR
VERSION:2.0
PRODID:-//NALTF - ECPv6.15.16//NONSGML v1.0//EN
CALSCALE:GREGORIAN
METHOD:PUBLISH
X-WR-CALNAME:NALTF
X-ORIGINAL-URL:https://naltf.gov.ng
X-WR-CALDESC:Events for NALTF
REFRESH-INTERVAL;VALUE=DURATION:PT1H
X-Robots-Tag:noindex
X-PUBLISHED-TTL:PT1H
BEGIN:VTIMEZONE
TZID:Africa/Lagos
BEGIN:STANDARD
TZOFFSETFROM:+0100
TZOFFSETTO:+0100
TZNAME:WAT
DTSTART:20240101T000000
END:STANDARD
END:VTIMEZONE
BEGIN:VEVENT
DTSTART;VALUE=DATE:20251027
DTEND;VALUE=DATE:20251029
DTSTAMP:20260421T182037
CREATED:20251006T203333Z
LAST-MODIFIED:20251006T203333Z
UID:8796-1761523200-1761695999@naltf.gov.ng
SUMMARY:Colloquium Conference of House of Reps Committee on Health Institutions
DESCRIPTION:Join us for a day of fun intellectual and inclusive committee engagement at the National Assembly Library Complex
URL:https://naltf.gov.ng/event/colloquium-conference-event/
LOCATION:National Assembly Library Trust Fund Complex\, Three Arms Zone\, Abuja Federal Capital Territory\, Abuja\, F.C.T\, Nigeria
CATEGORIES:Debate
END:VEVENT
END:VCALENDAR