BEGIN:VCALENDAR
VERSION:2.0
PRODID:-//NALTF - ECPv6.15.16//NONSGML v1.0//EN
CALSCALE:GREGORIAN
METHOD:PUBLISH
X-ORIGINAL-URL:https://naltf.gov.ng
X-WR-CALDESC:Events for NALTF
REFRESH-INTERVAL;VALUE=DURATION:PT1H
X-Robots-Tag:noindex
X-PUBLISHED-TTL:PT1H
BEGIN:VTIMEZONE
TZID:Africa/Lagos
BEGIN:STANDARD
TZOFFSETFROM:+0100
TZOFFSETTO:+0100
TZNAME:WAT
DTSTART:20240101T000000
END:STANDARD
END:VTIMEZONE
BEGIN:VEVENT
DTSTART;TZID=Africa/Lagos:20251106T110000
DTEND;TZID=Africa/Lagos:20251106T170000
DTSTAMP:20260421T210052
CREATED:20251103T102156Z
LAST-MODIFIED:20251103T102156Z
UID:9700-1762426800-1762448400@naltf.gov.ng
SUMMARY:High-Level Stakeholder Engagement with Nigerian Government Agencies on Opportunities for Collaboration with European Stakeholders and Partners
DESCRIPTION:Join us for a day of intellectual and inclusive engagement at the National Assembly Library Complex
URL:https://naltf.gov.ng/event/high-level-stakeholder-engagement-with-nigerian-government-agencies-on-opportunities-for-collaboration-with-european-stakeholders-and-partners/
LOCATION:F.C.T
END:VEVENT
BEGIN:VEVENT
DTSTART;TZID=Africa/Lagos:20251118T100000
DTEND;TZID=Africa/Lagos:20251118T140000
DTSTAMP:20260421T210052
CREATED:20251118T062800Z
LAST-MODIFIED:20251118T082325Z
UID:10161-1763460000-1763474400@naltf.gov.ng
SUMMARY:National Assembly Library hosts House Committee on Commerce for "Made in Naija!" Trade Exhibition​
DESCRIPTION:
URL:https://naltf.gov.ng/event/national-assembly-library-host-house-committee-on-commerce-for-made-in-naija-trade-exhibition/
LOCATION:F.C.T
END:VEVENT
BEGIN:VEVENT
DTSTART;TZID=Africa/Lagos:20251119T100000
DTEND;TZID=Africa/Lagos:20251119T140000
DTSTAMP:20260421T210052
CREATED:20251115T072303Z
LAST-MODIFIED:20251115T072303Z
UID:10141-1763546400-1763560800@naltf.gov.ng
SUMMARY:A Tour of the Library by National Children's Leadership Conference to Expose Participants on the Workings of the Legislature
DESCRIPTION:
URL:https://naltf.gov.ng/event/a-tour-of-the-library-by-national-childrens-leadership-conference-to-expose-participants-on-the-workings-of-the-legislature/
LOCATION:F.C.T
END:VEVENT
BEGIN:VEVENT
DTSTART;TZID=Africa/Lagos:20251119T100000
DTEND;TZID=Africa/Lagos:20251119T160000
DTSTAMP:20260421T210052
CREATED:20251118T063340Z
LAST-MODIFIED:20251118T063340Z
UID:10167-1763546400-1763568000@naltf.gov.ng
SUMMARY:National Assembly Library hosts Public Hearing on HB. 2098
DESCRIPTION:
URL:https://naltf.gov.ng/event/national-assembly-library-hosts-public-hearing-on-hb-2098/
LOCATION:F.C.T
END:VEVENT
BEGIN:VEVENT
DTSTART;TZID=Africa/Lagos:20251121T083000
DTEND;TZID=Africa/Lagos:20251121T170000
DTSTAMP:20260421T210052
CREATED:20251121T063547Z
LAST-MODIFIED:20251121T063547Z
UID:10274-1763713800-1763744400@naltf.gov.ng
SUMMARY:Two-Day Executive Workshop & Strategic Advisory Curriculum\, Advancing Nigeria’s Strategic Interests: A Solutions-Driven Approach to U.S.–Nigeria Relations​
DESCRIPTION:
URL:https://naltf.gov.ng/event/two-day-executive-workshop-strategic-advisory-curriculum-advancing-nigerias-strategic-interests-a-solutions-driven-approach-to-u-s-nigeria-relations/
LOCATION:National Assembly Library Trust Fund Complex\, Three Arms Zone\, Abuja Federal Capital Territory\, Abuja\, F.C.T\, Nigeria
END:VEVENT
BEGIN:VEVENT
DTSTART;TZID=Africa/Lagos:20251127T100000
DTEND;TZID=Africa/Lagos:20251127T160000
DTSTAMP:20260421T210052
CREATED:20251124T112204Z
LAST-MODIFIED:20251124T112204Z
UID:10363-1764237600-1764259200@naltf.gov.ng
SUMMARY:Public Hearing on "The Need to Investigate the Rising Insecurity and Loss of Lives in Abuja\, Despite CCTV Project Secured with a Chinese Loan of $460M"
DESCRIPTION:
URL:https://naltf.gov.ng/event/public-hearing-on-the-need-to-investigate-the-rising-insecurity-and-loss-of-lives-in-abuja-despite-cctv-project-secured-with-a-chinese-loan-of-460m/
LOCATION:National Assembly Library Trust Fund Complex\, Three Arms Zone\, Abuja Federal Capital Territory\, Abuja\, F.C.T\, Nigeria
END:VEVENT
BEGIN:VEVENT
DTSTART;VALUE=DATE:20251202
DTEND;VALUE=DATE:20251205
DTSTAMP:20260421T210052
CREATED:20251201T190248Z
LAST-MODIFIED:20251201T190248Z
UID:10458-1764633600-1764892799@naltf.gov.ng
SUMMARY:State and Zonal Caucus Meeting On The Reserved Seats for Women Bill​
DESCRIPTION:
URL:https://naltf.gov.ng/event/state-and-zonal-caucus-meeting-on-the-reserved-seats-for-women-bill/
LOCATION:National Assembly Library Trust Fund Complex\, Three Arms Zone\, Abuja Federal Capital Territory\, Abuja\, F.C.T\, Nigeria
END:VEVENT
BEGIN:VEVENT
DTSTART;TZID=Africa/Lagos:20251202T150000
DTEND;TZID=Africa/Lagos:20251202T170000
DTSTAMP:20260421T210052
CREATED:20251201T185724Z
LAST-MODIFIED:20251201T185724Z
UID:10455-1764687600-1764694800@naltf.gov.ng
SUMMARY:House Committee Meeting on Electoral Matters​
DESCRIPTION:
URL:https://naltf.gov.ng/event/house-committee-meeting-on-electoral-matters/
LOCATION:National Assembly Library Trust Fund Complex\, Three Arms Zone\, Abuja Federal Capital Territory\, Abuja\, F.C.T\, Nigeria
END:VEVENT
BEGIN:VEVENT
DTSTART;TZID=Africa/Lagos:20251205T100000
DTEND;TZID=Africa/Lagos:20251205T140000
DTSTAMP:20260421T210052
CREATED:20251201T190809Z
LAST-MODIFIED:20251201T191843Z
UID:10460-1764928800-1764943200@naltf.gov.ng
SUMMARY:Artvocacy Day for Gender Based Violence
DESCRIPTION:
URL:https://naltf.gov.ng/event/artvocacy-day-for-gender-based-violence/
LOCATION:National Assembly Library Trust Fund Complex\, Three Arms Zone\, Abuja Federal Capital Territory\, Abuja\, F.C.T\, Nigeria
END:VEVENT
BEGIN:VEVENT
DTSTART;TZID=Africa/Lagos:20251209T180000
DTEND;TZID=Africa/Lagos:20251209T210000
DTSTAMP:20260421T210052
CREATED:20251201T191056Z
LAST-MODIFIED:20251201T191642Z
UID:10465-1765303200-1765314000@naltf.gov.ng
SUMMARY:"Impossibility is a Myth" - An Art Exhibition for Autism Awareness
DESCRIPTION:
URL:https://naltf.gov.ng/event/impossibility-is-a-myth-an-art-exhibition-for-autism-awareness/
LOCATION:National Assembly Library Trust Fund Complex\, Three Arms Zone\, Abuja Federal Capital Territory\, Abuja\, F.C.T\, Nigeria
END:VEVENT
BEGIN:VEVENT
DTSTART;TZID=Africa/Lagos:20251212T100000
DTEND;TZID=Africa/Lagos:20251212T170000
DTSTAMP:20260421T210052
CREATED:20251124T112512Z
LAST-MODIFIED:20251124T112512Z
UID:10367-1765533600-1765558800@naltf.gov.ng
SUMMARY:In Conversation with Asma'u Baikie - Book Presentation of '80 Owe\, Proverbs and Karin Magana'
DESCRIPTION:
URL:https://naltf.gov.ng/event/in-conversation-with-asmau-baikie-book-presentation-of-80-owe-proverbs-and-karin-magana/
LOCATION:National Assembly Library Trust Fund Complex\, Three Arms Zone\, Abuja Federal Capital Territory\, Abuja\, F.C.T\, Nigeria
END:VEVENT
BEGIN:VEVENT
DTSTART;VALUE=DATE:20260121
DTEND;VALUE=DATE:20260123
DTSTAMP:20260421T210052
CREATED:20260121T112451Z
LAST-MODIFIED:20260121T112451Z
UID:10921-1768953600-1769126399@naltf.gov.ng
SUMMARY:Training/Retreat for Staff of the Policy and Coordinating Unit (PCU)\, Office of the Speaker\, House of Representatives
DESCRIPTION:
URL:https://naltf.gov.ng/event/training-retreat-for-staff-of-the-policy-and-coordinating-unit-pcu-office-of-the-speaker-house-of-representatives/
LOCATION:F.C.T
END:VEVENT
BEGIN:VEVENT
DTSTART;VALUE=DATE:20260127
DTEND;VALUE=DATE:20260128
DTSTAMP:20260421T210052
CREATED:20260121T112101Z
LAST-MODIFIED:20260121T112101Z
UID:10917-1769472000-1769558399@naltf.gov.ng
SUMMARY:International Forum for Peace and Development (IFPD); Council of Emissaries Assemblies Meetin
DESCRIPTION:
URL:https://naltf.gov.ng/event/international-forum-for-peace-and-development-ifpd-council-of-emissaries-assemblies-meetin/
LOCATION:F.C.T
END:VEVENT
BEGIN:VEVENT
DTSTART;TZID=Africa/Lagos:20260129T180000
DTEND;TZID=Africa/Lagos:20260129T210000
DTSTAMP:20260421T210052
CREATED:20260121T112232Z
LAST-MODIFIED:20260121T112232Z
UID:10919-1769709600-1769720400@naltf.gov.ng
SUMMARY:High-level Meet and Greet event organised by the Abuja (FCT) Chapter of the United States Government Exchange Alumni Association of Nigeria (USGEAAN)
DESCRIPTION:
URL:https://naltf.gov.ng/event/high-level-meet-and-greet-event-organised-by-the-abuja-fct-chapter-of-the-united-states-government-exchange-alumni-association-of-nigeria-usgeaan/
LOCATION:F.C.T
END:VEVENT
BEGIN:VEVENT
DTSTART;VALUE=DATE:20260209
DTEND;VALUE=DATE:20260211
DTSTAMP:20260421T210052
CREATED:20260202T111923Z
LAST-MODIFIED:20260202T111923Z
UID:11408-1770595200-1770767999@naltf.gov.ng
SUMMARY:Two-day IT capacity-building training programme for the spouses of Honourable Members of the House of Representatives
DESCRIPTION:
URL:https://naltf.gov.ng/event/two-day-it-capacity-building-training-programme-for-the-spouses-of-honourable-members-of-the-house-of-representatives/
LOCATION:F.C.T
END:VEVENT
BEGIN:VEVENT
DTSTART;TZID=Africa/Lagos:20260216T090000
DTEND;TZID=Africa/Lagos:20260216T170000
DTSTAMP:20260421T210052
CREATED:20260202T112102Z
LAST-MODIFIED:20260202T112102Z
UID:11410-1771232400-1771261200@naltf.gov.ng
SUMMARY:International Day of Education Conference “The Future of Education in Nigeria: Legislative Solutions for a Brighter Tomorrow\,”
DESCRIPTION:
URL:https://naltf.gov.ng/event/international-day-of-education-conference-the-future-of-education-in-nigeria-legislative-solutions-for-a-brighter-tomorrow/
LOCATION:F.C.T
END:VEVENT
BEGIN:VEVENT
DTSTART;TZID=Africa/Lagos:20260306T100000
DTEND;TZID=Africa/Lagos:20260306T120000
DTSTAMP:20260421T210052
CREATED:20260303T114425Z
LAST-MODIFIED:20260303T114425Z
UID:12286-1772791200-1772798400@naltf.gov.ng
SUMMARY:Colloquium: Positioning Nigeria to Lead Intra-African Trade Federal Ministry of Industry\, Trade and Investment
DESCRIPTION:
URL:https://naltf.gov.ng/event/colloquium-positioning-nigeria-to-lead-intra-african-trade-federal-ministry-of-industry-trade-and-investment/
LOCATION:F.C.T
END:VEVENT
BEGIN:VEVENT
DTSTART;VALUE=DATE:20260330
DTEND;VALUE=DATE:20260331
DTSTAMP:20260421T210052
CREATED:20260318T120140Z
LAST-MODIFIED:20260318T120140Z
UID:12704-1774828800-1774915199@naltf.gov.ng
SUMMARY:National GovTech Policy Roundtable
DESCRIPTION:
URL:https://naltf.gov.ng/event/national-govtech-policy-roundtable/
LOCATION:National Assembly Library Trust Fund Complex\, Three Arms Zone\, Abuja Federal Capital Territory\, Abuja\, F.C.T\, Nigeria
END:VEVENT
BEGIN:VEVENT
DTSTART;VALUE=DATE:20260402
DTEND;VALUE=DATE:20260403
DTSTAMP:20260421T210052
CREATED:20260328T091436Z
LAST-MODIFIED:20260328T091436Z
UID:12770-1775088000-1775174399@naltf.gov.ng
SUMMARY:Film Screening - 'A Mother's Love'
DESCRIPTION:
URL:https://naltf.gov.ng/event/film-screening-a-mothers-love/
LOCATION:National Assembly Library Trust Fund Complex\, Three Arms Zone\, Abuja Federal Capital Territory\, Abuja\, F.C.T\, Nigeria
END:VEVENT
BEGIN:VEVENT
DTSTART;VALUE=DATE:20260408
DTEND;VALUE=DATE:20260410
DTSTAMP:20260421T210052
CREATED:20260328T091637Z
LAST-MODIFIED:20260328T091637Z
UID:12772-1775606400-1775779199@naltf.gov.ng
SUMMARY:Two-day Drug Policy and Advocacy Training
DESCRIPTION:
URL:https://naltf.gov.ng/event/two-day-drug-policy-and-advocacy-training/
LOCATION:National Assembly Library Trust Fund Complex\, Three Arms Zone\, Abuja Federal Capital Territory\, Abuja\, F.C.T\, Nigeria
END:VEVENT
BEGIN:VEVENT
DTSTART;TZID=Africa/Lagos:20260420T090000
DTEND;TZID=Africa/Lagos:20260421T160000
DTSTAMP:20260421T210052
CREATED:20260328T091751Z
LAST-MODIFIED:20260328T091838Z
UID:12775-1776675600-1776787200@naltf.gov.ng
SUMMARY:Global Roundtable on Nigeria's Energy Transition with special focus on the Gas Revolution
DESCRIPTION:
URL:https://naltf.gov.ng/event/global-roundtable-on-nigerias-energy-transition-with-special-focus-on-the-gas-revolution/
LOCATION:National Assembly Library Trust Fund Complex\, Three Arms Zone\, Abuja Federal Capital Territory\, Abuja\, F.C.T\, Nigeria
END:VEVENT
BEGIN:VEVENT
DTSTART;VALUE=DATE:20260423
DTEND;VALUE=DATE:20260424
DTSTAMP:20260421T210052
CREATED:20260328T092100Z
LAST-MODIFIED:20260328T092100Z
UID:12779-1776902400-1776988799@naltf.gov.ng
SUMMARY:Nigeria-Kenya Aviation & Blue Economy Roundtable for Intra-African Trade\, Legislative Alignment and Subnational Economic Development
DESCRIPTION:
URL:https://naltf.gov.ng/event/nigeria-kenya-aviation-blue-economy-roundtable-for-intra-african-trade-legislative-alignment-and-subnational-economic-development/
LOCATION:National Assembly Library Trust Fund Complex\, Three Arms Zone\, Abuja Federal Capital Territory\, Abuja\, F.C.T\, Nigeria
END:VEVENT
BEGIN:VEVENT
DTSTART;VALUE=DATE:20260507
DTEND;VALUE=DATE:20260509
DTSTAMP:20260421T210052
CREATED:20260328T092415Z
LAST-MODIFIED:20260328T092415Z
UID:12782-1778112000-1778284799@naltf.gov.ng
SUMMARY:2-Day Conference "Curbing the Impact of Sub-Standard Steel\, The Challenges of Metal Scavenging and its Effect on Nigeria's Industrial and Infrastructural Growth"
DESCRIPTION:
URL:https://naltf.gov.ng/event/2-day-conference-curbing-the-impact-of-sub-standard-steel-the-challenges-of-metal-scavenging-and-its-effect-on-nigerias-industrial-and-infrastructural-growth/
LOCATION:National Assembly Library Trust Fund Complex\, Three Arms Zone\, Abuja Federal Capital Territory\, Abuja\, F.C.T\, Nigeria
END:VEVENT
BEGIN:VEVENT
DTSTART;TZID=Africa/Lagos:20260515T110000
DTEND;TZID=Africa/Lagos:20260515T160000
DTSTAMP:20260421T210052
CREATED:20260328T092525Z
LAST-MODIFIED:20260328T092525Z
UID:12785-1778842800-1778860800@naltf.gov.ng
SUMMARY:Hercademy Graduation Ceremony
DESCRIPTION:
URL:https://naltf.gov.ng/event/hercademy-graduation-ceremony/
LOCATION:National Assembly Library Trust Fund Complex\, Three Arms Zone\, Abuja Federal Capital Territory\, Abuja\, F.C.T\, Nigeria
END:VEVENT
BEGIN:VEVENT
DTSTART;VALUE=DATE:20260528
DTEND;VALUE=DATE:20260529
DTSTAMP:20260421T210052
CREATED:20260328T092653Z
LAST-MODIFIED:20260328T092653Z
UID:12790-1779926400-1780012799@naltf.gov.ng
SUMMARY:Parliamentary Diary 6th Annual Lecture Series & Award Ceremony
DESCRIPTION:
URL:https://naltf.gov.ng/event/parliamentary-diary-6th-annual-lecture-series-award-ceremony/
LOCATION:National Assembly Library Trust Fund Complex\, Three Arms Zone\, Abuja Federal Capital Territory\, Abuja\, F.C.T\, Nigeria
END:VEVENT
END:VCALENDAR