BEGIN:VCALENDAR
VERSION:2.0
PRODID:-//NALTF - ECPv6.15.16//NONSGML v1.0//EN
CALSCALE:GREGORIAN
METHOD:PUBLISH
X-ORIGINAL-URL:https://naltf.gov.ng
X-WR-CALDESC:Events for NALTF
REFRESH-INTERVAL;VALUE=DURATION:PT1H
X-Robots-Tag:noindex
X-PUBLISHED-TTL:PT1H
BEGIN:VTIMEZONE
TZID:Africa/Lagos
BEGIN:STANDARD
TZOFFSETFROM:+0100
TZOFFSETTO:+0100
TZNAME:WAT
DTSTART:20250101T000000
END:STANDARD
END:VTIMEZONE
BEGIN:VEVENT
DTSTART;TZID=Africa/Lagos:20260515T110000
DTEND;TZID=Africa/Lagos:20260515T160000
DTSTAMP:20260421T173948
CREATED:20260328T092525Z
LAST-MODIFIED:20260328T092525Z
UID:12785-1778842800-1778860800@naltf.gov.ng
SUMMARY:Hercademy Graduation Ceremony
DESCRIPTION:
URL:https://naltf.gov.ng/event/hercademy-graduation-ceremony/
LOCATION:National Assembly Library Trust Fund Complex\, Three Arms Zone\, Abuja Federal Capital Territory\, Abuja\, F.C.T\, Nigeria
END:VEVENT
BEGIN:VEVENT
DTSTART;VALUE=DATE:20260528
DTEND;VALUE=DATE:20260529
DTSTAMP:20260421T173948
CREATED:20260328T092653Z
LAST-MODIFIED:20260328T092653Z
UID:12790-1779926400-1780012799@naltf.gov.ng
SUMMARY:Parliamentary Diary 6th Annual Lecture Series & Award Ceremony
DESCRIPTION:
URL:https://naltf.gov.ng/event/parliamentary-diary-6th-annual-lecture-series-award-ceremony/
LOCATION:National Assembly Library Trust Fund Complex\, Three Arms Zone\, Abuja Federal Capital Territory\, Abuja\, F.C.T\, Nigeria
END:VEVENT
END:VCALENDAR