BEGIN:VCALENDAR
VERSION:2.0
PRODID:-//NALTF - ECPv6.15.16//NONSGML v1.0//EN
CALSCALE:GREGORIAN
METHOD:PUBLISH
X-WR-CALNAME:NALTF
X-ORIGINAL-URL:https://naltf.gov.ng
X-WR-CALDESC:Events for NALTF
REFRESH-INTERVAL;VALUE=DURATION:PT1H
X-Robots-Tag:noindex
X-PUBLISHED-TTL:PT1H
BEGIN:VTIMEZONE
TZID:Africa/Lagos
BEGIN:STANDARD
TZOFFSETFROM:+0100
TZOFFSETTO:+0100
TZNAME:WAT
DTSTART:20250101T000000
END:STANDARD
END:VTIMEZONE
BEGIN:VEVENT
DTSTART;VALUE=DATE:20260209
DTEND;VALUE=DATE:20260211
DTSTAMP:20260421T124331
CREATED:20260202T111923Z
LAST-MODIFIED:20260202T111923Z
UID:11408-1770595200-1770767999@naltf.gov.ng
SUMMARY:Two-day IT capacity-building training programme for the spouses of Honourable Members of the House of Representatives
DESCRIPTION:
URL:https://naltf.gov.ng/event/two-day-it-capacity-building-training-programme-for-the-spouses-of-honourable-members-of-the-house-of-representatives/
LOCATION:F.C.T
END:VEVENT
BEGIN:VEVENT
DTSTART;TZID=Africa/Lagos:20260216T090000
DTEND;TZID=Africa/Lagos:20260216T170000
DTSTAMP:20260421T124331
CREATED:20260202T112102Z
LAST-MODIFIED:20260202T112102Z
UID:11410-1771232400-1771261200@naltf.gov.ng
SUMMARY:International Day of Education Conference “The Future of Education in Nigeria: Legislative Solutions for a Brighter Tomorrow\,”
DESCRIPTION:
URL:https://naltf.gov.ng/event/international-day-of-education-conference-the-future-of-education-in-nigeria-legislative-solutions-for-a-brighter-tomorrow/
LOCATION:F.C.T
END:VEVENT
END:VCALENDAR